BEGIN:VCALENDAR
VERSION:2.0
PRODID:-//GesLoures - ECPv4.4.1.1//NONSGML v1.0//EN
CALSCALE:GREGORIAN
METHOD:PUBLISH
X-WR-CALNAME:GesLoures
X-ORIGINAL-URL:https://gesloures.pt
X-WR-CALDESC:Events for GesLoures
BEGIN:VEVENT
DTSTART;VALUE=DATE:20191208
DTEND;VALUE=DATE:20191208
DTSTAMP:20260426T033727
CREATED:20191203T143619Z
LAST-MODIFIED:20191203T143619Z
UID:2866-1575763200-1575849599@gesloures.pt
SUMMARY:Torneio Nacional de Infantis
DESCRIPTION:
URL:https://gesloures.pt/event/torneio-nacional-de-infantis/
LOCATION:Rua Conde de Vimioso\, Loures\, Santo António dos Cavaleiros\, 2660-352\, Portugal
END:VEVENT
END:VCALENDAR